BEGIN:VCALENDAR
VERSION:2.0
PRODID:-//AM Clínicas - ECPv6.15.13.1//NONSGML v1.0//EN
CALSCALE:GREGORIAN
METHOD:PUBLISH
X-WR-CALNAME:AM Clínicas
X-ORIGINAL-URL:https://amclinicas.org
X-WR-CALDESC:Eventos para AM Clínicas
REFRESH-INTERVAL;VALUE=DURATION:PT1H
X-Robots-Tag:noindex
X-PUBLISHED-TTL:PT1H
BEGIN:VTIMEZONE
TZID:UTC
BEGIN:STANDARD
TZOFFSETFROM:+0000
TZOFFSETTO:+0000
TZNAME:UTC
DTSTART:20250101T000000
END:STANDARD
END:VTIMEZONE
BEGIN:VEVENT
DTSTART;TZID=UTC:20260308T100000
DTEND;TZID=UTC:20261201T140000
DTSTAMP:20260420T185947
CREATED:20260302T054734Z
LAST-MODIFIED:20260302T054734Z
UID:1307-1772964000-1796133600@amclinicas.org
SUMMARY:AUXILIAR DE MEDICINA ESTÉTICA
DESCRIPTION:
URL:https://amclinicas.org/index.php/event/auxiliar-de-medicina-estetica-6/
LOCATION:Iztapalapa\, Ermita Iztapalapa 2545\, Col. La Era\, CDMX\, CDMX\, 09710\, Mexico
CATEGORIES:Diplomados
END:VEVENT
BEGIN:VEVENT
DTSTART;TZID=UTC:20260311T150000
DTEND;TZID=UTC:20261211T190000
DTSTAMP:20260420T185947
CREATED:20260302T062923Z
LAST-MODIFIED:20260302T062923Z
UID:1323-1773241200-1797015600@amclinicas.org
SUMMARY:AUXILIAR DE MEDICINA ESTÉTICA
DESCRIPTION:
URL:https://amclinicas.org/index.php/event/auxiliar-de-medicina-estetica-8/
LOCATION:CDMX
CATEGORIES:Diplomados
END:VEVENT
BEGIN:VEVENT
DTSTART;TZID=UTC:20260320T100000
DTEND;TZID=UTC:20260620T140000
DTSTAMP:20260420T185947
CREATED:20260302T062558Z
LAST-MODIFIED:20260302T062558Z
UID:1318-1774000800-1781964000@amclinicas.org
SUMMARY:SUEROTERAPIA
DESCRIPTION:
URL:https://amclinicas.org/index.php/event/sueroterapia-5/
LOCATION:Taxqueña\, San Andrés 25\, Tlalpan Centro\, México\, CDMX\, 04040\, Mexico
CATEGORIES:Diplomados
END:VEVENT
BEGIN:VEVENT
DTSTART;TZID=UTC:20260328T150000
DTEND;TZID=UTC:20260601T190000
DTSTAMP:20260420T185947
CREATED:20260302T062741Z
LAST-MODIFIED:20260302T062741Z
UID:1320-1774710000-1780340400@amclinicas.org
SUMMARY:EXTENSIONES DE PESTAÑAS
DESCRIPTION:
URL:https://amclinicas.org/index.php/event/extensiones-de-pestanas-2/
LOCATION:Eduardo Molina\, Estaño 462\, 5to Tramo 20 de Noviembre\, México\, CDMX\, 15309\, Mexico
CATEGORIES:Diplomados
END:VEVENT
BEGIN:VEVENT
DTSTART;TZID=UTC:20260415T100000
DTEND;TZID=UTC:20260415T140000
DTSTAMP:20260420T185947
CREATED:20260401T014233Z
LAST-MODIFIED:20260401T014233Z
UID:1339-1776247200-1776261600@amclinicas.org
SUMMARY:Sueroterapia
DESCRIPTION:
URL:https://amclinicas.org/index.php/event/sueroterapia-6/
LOCATION:Eduardo Molina\, Estaño 462\, 5to Tramo 20 de Noviembre\, México\, CDMX\, 15309\, Mexico
CATEGORIES:Diplomados
END:VEVENT
BEGIN:VEVENT
DTSTART;TZID=UTC:20260415T110000
DTEND;TZID=UTC:20260415T180000
DTSTAMP:20260420T185947
CREATED:20260401T015530Z
LAST-MODIFIED:20260401T015530Z
UID:1357-1776250800-1776276000@amclinicas.org
SUMMARY:Dermapen con plasma rico en plaquetas
DESCRIPTION:
URL:https://amclinicas.org/index.php/event/dermapen-con-plasma-rico-en-plaquetas/
LOCATION:Taxqueña\, San Andrés 25\, Tlalpan Centro\, México\, CDMX\, 04040\, Mexico
CATEGORIES:Cursos Intensivos
END:VEVENT
BEGIN:VEVENT
DTSTART;TZID=UTC:20260417T143000
DTEND;TZID=UTC:20260417T183000
DTSTAMP:20260420T185947
CREATED:20260401T014359Z
LAST-MODIFIED:20260401T014359Z
UID:1341-1776436200-1776450600@amclinicas.org
SUMMARY:Podología
DESCRIPTION:
URL:https://amclinicas.org/index.php/event/podologia-3/
LOCATION:Taxqueña\, San Andrés 25\, Tlalpan Centro\, México\, CDMX\, 04040\, Mexico
CATEGORIES:Diplomados
END:VEVENT
BEGIN:VEVENT
DTSTART;TZID=UTC:20260418T100000
DTEND;TZID=UTC:20260418T140000
DTSTAMP:20260420T185947
CREATED:20260401T014648Z
LAST-MODIFIED:20260401T015251Z
UID:1343-1776506400-1776520800@amclinicas.org
SUMMARY:Sueroterapia
DESCRIPTION:
URL:https://amclinicas.org/index.php/event/sueroterapia-7/
LOCATION:Iztapalapa\, Ermita Iztapalapa 2545\, Col. La Era\, CDMX\, CDMX\, 09710\, Mexico
CATEGORIES:Diplomados
END:VEVENT
BEGIN:VEVENT
DTSTART;TZID=UTC:20260418T143000
DTEND;TZID=UTC:20260418T183000
DTSTAMP:20260420T185947
CREATED:20260401T014756Z
LAST-MODIFIED:20260401T015243Z
UID:1345-1776522600-1776537000@amclinicas.org
SUMMARY:Auxiliar de Medicina Estética
DESCRIPTION:
URL:https://amclinicas.org/index.php/event/auxiliar-de-medicina-estetica-9/
LOCATION:Eduardo Molina\, Estaño 462\, 5to Tramo 20 de Noviembre\, México\, CDMX\, 15309\, Mexico
CATEGORIES:Diplomados
END:VEVENT
BEGIN:VEVENT
DTSTART;TZID=UTC:20260419T100000
DTEND;TZID=UTC:20260419T140000
DTSTAMP:20260420T185947
CREATED:20260401T014900Z
LAST-MODIFIED:20260401T015235Z
UID:1347-1776592800-1776607200@amclinicas.org
SUMMARY:Auxiliar de Medicina Estética
DESCRIPTION:
URL:https://amclinicas.org/index.php/event/auxiliar-de-medicina-estetica-10/
LOCATION:Taxqueña\, San Andrés 25\, Tlalpan Centro\, México\, CDMX\, 04040\, Mexico
CATEGORIES:Diplomados
END:VEVENT
BEGIN:VEVENT
DTSTART;TZID=UTC:20260419T100000
DTEND;TZID=UTC:20260419T170000
DTSTAMP:20260420T185947
CREATED:20260401T015436Z
LAST-MODIFIED:20260401T015436Z
UID:1355-1776592800-1776618000@amclinicas.org
SUMMARY:Masaje relajante y con ventosas
DESCRIPTION:
URL:https://amclinicas.org/index.php/event/masaje-relajante-y-con-ventosas/
LOCATION:Taxqueña\, San Andrés 25\, Tlalpan Centro\, México\, CDMX\, 04040\, Mexico
CATEGORIES:Cursos Intensivos
END:VEVENT
BEGIN:VEVENT
DTSTART;TZID=UTC:20260421T100000
DTEND;TZID=UTC:20260421T170000
DTSTAMP:20260420T185947
CREATED:20260401T015621Z
LAST-MODIFIED:20260401T015621Z
UID:1360-1776765600-1776790800@amclinicas.org
SUMMARY:Masaje descontracturante y con ventosas
DESCRIPTION:
URL:https://amclinicas.org/index.php/event/masaje-descontracturante-y-con-ventosas-3/
LOCATION:Iztapalapa\, Ermita Iztapalapa 2545\, Col. La Era\, CDMX\, CDMX\, 09710\, Mexico
CATEGORIES:Cursos Intensivos
END:VEVENT
BEGIN:VEVENT
DTSTART;TZID=UTC:20260423T100000
DTEND;TZID=UTC:20260423T140000
DTSTAMP:20260420T185947
CREATED:20260401T014946Z
LAST-MODIFIED:20260401T014946Z
UID:1349-1776938400-1776952800@amclinicas.org
SUMMARY:Auxiliar de Medicina Estética
DESCRIPTION:
URL:https://amclinicas.org/index.php/event/auxiliar-de-medicina-estetica-11/
LOCATION:Iztapalapa\, Ermita Iztapalapa 2545\, Col. La Era\, CDMX\, CDMX\, 09710\, Mexico
CATEGORIES:Diplomados
END:VEVENT
BEGIN:VEVENT
DTSTART;TZID=UTC:20260426T100000
DTEND;TZID=UTC:20260426T160000
DTSTAMP:20260420T185947
CREATED:20260401T015704Z
LAST-MODIFIED:20260401T015704Z
UID:1363-1777197600-1777219200@amclinicas.org
SUMMARY:Aumento de glúteos con peptonas
DESCRIPTION:
URL:https://amclinicas.org/index.php/event/aumento-de-gluteos-con-peptonas-2/
LOCATION:Iztapalapa\, Ermita Iztapalapa 2545\, Col. La Era\, CDMX\, CDMX\, 09710\, Mexico
CATEGORIES:Cursos Intensivos
END:VEVENT
BEGIN:VEVENT
DTSTART;TZID=UTC:20260427T110000
DTEND;TZID=UTC:20260427T170000
DTSTAMP:20260420T185947
CREATED:20260401T015814Z
LAST-MODIFIED:20260401T015814Z
UID:1365-1777287600-1777309200@amclinicas.org
SUMMARY:Pedigrafía para plantillas ortopédicas
DESCRIPTION:
URL:https://amclinicas.org/index.php/event/pedigrafia-para-plantillas-ortopedicas/
LOCATION:Eduardo Molina\, Estaño 462\, 5to Tramo 20 de Noviembre\, México\, CDMX\, 15309\, Mexico
CATEGORIES:Cursos Intensivos
END:VEVENT
BEGIN:VEVENT
DTSTART;TZID=UTC:20260427T140000
DTEND;TZID=UTC:20260427T180000
DTSTAMP:20260420T185947
CREATED:20260401T015047Z
LAST-MODIFIED:20260401T015047Z
UID:1351-1777298400-1777312800@amclinicas.org
SUMMARY:Extensiones de pestañas
DESCRIPTION:
URL:https://amclinicas.org/index.php/event/extensiones-de-pestanas-3/
LOCATION:Eduardo Molina\, Estaño 462\, 5to Tramo 20 de Noviembre\, México\, CDMX\, 15309\, Mexico
CATEGORIES:Diplomados
END:VEVENT
BEGIN:VEVENT
DTSTART;TZID=UTC:20260429T100000
DTEND;TZID=UTC:20260429T140000
DTSTAMP:20260420T185947
CREATED:20260401T015137Z
LAST-MODIFIED:20260401T015137Z
UID:1353-1777456800-1777471200@amclinicas.org
SUMMARY:Cosmiatría facial y corporal
DESCRIPTION:
URL:https://amclinicas.org/index.php/event/cosmiatria-facial-y-corporal-3/
LOCATION:Iztapalapa\, Ermita Iztapalapa 2545\, Col. La Era\, CDMX\, CDMX\, 09710\, Mexico
CATEGORIES:Diplomados
END:VEVENT
END:VCALENDAR