BEGIN:VCALENDAR
VERSION:2.0
PRODID:-//AM Clínicas - ECPv6.15.13.1//NONSGML v1.0//EN
CALSCALE:GREGORIAN
METHOD:PUBLISH
X-WR-CALNAME:AM Clínicas
X-ORIGINAL-URL:https://amclinicas.org
X-WR-CALDESC:Eventos para AM Clínicas
REFRESH-INTERVAL;VALUE=DURATION:PT1H
X-Robots-Tag:noindex
X-PUBLISHED-TTL:PT1H
BEGIN:VTIMEZONE
TZID:UTC
BEGIN:STANDARD
TZOFFSETFROM:+0000
TZOFFSETTO:+0000
TZNAME:UTC
DTSTART:20250101T000000
END:STANDARD
END:VTIMEZONE
BEGIN:VEVENT
DTSTART;TZID=UTC:20260308T100000
DTEND;TZID=UTC:20261201T140000
DTSTAMP:20260421T020020
CREATED:20260302T054734Z
LAST-MODIFIED:20260302T054734Z
UID:1307-1772964000-1796133600@amclinicas.org
SUMMARY:AUXILIAR DE MEDICINA ESTÉTICA
DESCRIPTION:
URL:https://amclinicas.org/index.php/event/auxiliar-de-medicina-estetica-6/
LOCATION:Iztapalapa\, Ermita Iztapalapa 2545\, Col. La Era\, CDMX\, CDMX\, 09710\, Mexico
CATEGORIES:Diplomados
END:VEVENT
BEGIN:VEVENT
DTSTART;TZID=UTC:20260311T150000
DTEND;TZID=UTC:20261211T190000
DTSTAMP:20260421T020021
CREATED:20260302T062923Z
LAST-MODIFIED:20260302T062923Z
UID:1323-1773241200-1797015600@amclinicas.org
SUMMARY:AUXILIAR DE MEDICINA ESTÉTICA
DESCRIPTION:
URL:https://amclinicas.org/index.php/event/auxiliar-de-medicina-estetica-8/
LOCATION:CDMX
CATEGORIES:Diplomados
END:VEVENT
BEGIN:VEVENT
DTSTART;TZID=UTC:20260320T100000
DTEND;TZID=UTC:20260620T140000
DTSTAMP:20260421T020021
CREATED:20260302T062558Z
LAST-MODIFIED:20260302T062558Z
UID:1318-1774000800-1781964000@amclinicas.org
SUMMARY:SUEROTERAPIA
DESCRIPTION:
URL:https://amclinicas.org/index.php/event/sueroterapia-5/
LOCATION:Taxqueña\, San Andrés 25\, Tlalpan Centro\, México\, CDMX\, 04040\, Mexico
CATEGORIES:Diplomados
END:VEVENT
BEGIN:VEVENT
DTSTART;TZID=UTC:20260328T150000
DTEND;TZID=UTC:20260601T190000
DTSTAMP:20260421T020021
CREATED:20260302T062741Z
LAST-MODIFIED:20260302T062741Z
UID:1320-1774710000-1780340400@amclinicas.org
SUMMARY:EXTENSIONES DE PESTAÑAS
DESCRIPTION:
URL:https://amclinicas.org/index.php/event/extensiones-de-pestanas-2/
LOCATION:Eduardo Molina\, Estaño 462\, 5to Tramo 20 de Noviembre\, México\, CDMX\, 15309\, Mexico
CATEGORIES:Diplomados
END:VEVENT
END:VCALENDAR