BEGIN:VCALENDAR
VERSION:2.0
PRODID:-//AM Clínicas - ECPv6.15.13.1//NONSGML v1.0//EN
CALSCALE:GREGORIAN
METHOD:PUBLISH
X-ORIGINAL-URL:https://amclinicas.org
X-WR-CALDESC:Eventos para AM Clínicas
REFRESH-INTERVAL;VALUE=DURATION:PT1H
X-Robots-Tag:noindex
X-PUBLISHED-TTL:PT1H
BEGIN:VTIMEZONE
TZID:UTC
BEGIN:STANDARD
TZOFFSETFROM:+0000
TZOFFSETTO:+0000
TZNAME:UTC
DTSTART:20250101T000000
END:STANDARD
END:VTIMEZONE
BEGIN:VEVENT
DTSTART;TZID=UTC:20260205T100000
DTEND;TZID=UTC:20260205T140000
DTSTAMP:20260421T001817
CREATED:20260204T063739Z
LAST-MODIFIED:20260204T064731Z
UID:1273-1770285600-1770300000@amclinicas.org
SUMMARY:Acupuntura
DESCRIPTION:
URL:https://amclinicas.org/index.php/event/acupuntura/
LOCATION:Iztapalapa\, Ermita Iztapalapa 2545\, Col. La Era\, CDMX\, CDMX\, 09710\, Mexico
CATEGORIES:Diplomados
END:VEVENT
BEGIN:VEVENT
DTSTART;TZID=UTC:20260207T100000
DTEND;TZID=UTC:20260207T140000
DTSTAMP:20260421T001817
CREATED:20260204T063902Z
LAST-MODIFIED:20260204T064731Z
UID:1275-1770458400-1770472800@amclinicas.org
SUMMARY:Auxiliar de Medicina Estética
DESCRIPTION:
URL:https://amclinicas.org/index.php/event/auxiliar-de-medicina-estetica-4/
LOCATION:Eduardo Molina\, Estaño 462\, 5to Tramo 20 de Noviembre\, México\, CDMX\, 15309\, Mexico
CATEGORIES:Diplomados
END:VEVENT
BEGIN:VEVENT
DTSTART;TZID=UTC:20260213T150000
DTEND;TZID=UTC:20260213T190000
DTSTAMP:20260421T001817
CREATED:20260204T064011Z
LAST-MODIFIED:20260204T064731Z
UID:1277-1770994800-1771009200@amclinicas.org
SUMMARY:Podología
DESCRIPTION:
URL:https://amclinicas.org/index.php/event/podologia/
LOCATION:Iztapalapa\, Ermita Iztapalapa 2545\, Col. La Era\, CDMX\, CDMX\, 09710\, Mexico
CATEGORIES:Diplomados
END:VEVENT
BEGIN:VEVENT
DTSTART;TZID=UTC:20260218T100000
DTEND;TZID=UTC:20260218T140000
DTSTAMP:20260421T001817
CREATED:20260204T064114Z
LAST-MODIFIED:20260204T064730Z
UID:1279-1771408800-1771423200@amclinicas.org
SUMMARY:Bioestimuladores
DESCRIPTION:
URL:https://amclinicas.org/index.php/event/bioestimuladores/
LOCATION:Eduardo Molina\, Estaño 462\, 5to Tramo 20 de Noviembre\, México\, CDMX\, 15309\, Mexico
CATEGORIES:Diplomados
END:VEVENT
BEGIN:VEVENT
DTSTART;TZID=UTC:20260218T150000
DTEND;TZID=UTC:20260218T190000
DTSTAMP:20260421T001817
CREATED:20260204T064227Z
LAST-MODIFIED:20260204T064730Z
UID:1281-1771426800-1771441200@amclinicas.org
SUMMARY:Auxiliar de Medicina Estética
DESCRIPTION:
URL:https://amclinicas.org/index.php/event/auxiliar-de-medicina-estetica-5/
LOCATION:Taxqueña\, San Andrés 25\, Tlalpan Centro\, México\, CDMX\, 04040\, Mexico
CATEGORIES:Diplomados
END:VEVENT
BEGIN:VEVENT
DTSTART;TZID=UTC:20260220T150000
DTEND;TZID=UTC:20260220T190000
DTSTAMP:20260421T001817
CREATED:20260204T064321Z
LAST-MODIFIED:20260204T064730Z
UID:1283-1771599600-1771614000@amclinicas.org
SUMMARY:Podología
DESCRIPTION:
URL:https://amclinicas.org/index.php/event/podologia-2/
LOCATION:Eduardo Molina\, Estaño 462\, 5to Tramo 20 de Noviembre\, México\, CDMX\, 15309\, Mexico
CATEGORIES:Diplomados
END:VEVENT
BEGIN:VEVENT
DTSTART;TZID=UTC:20260223T150000
DTEND;TZID=UTC:20260223T190000
DTSTAMP:20260421T001817
CREATED:20260204T064448Z
LAST-MODIFIED:20260204T064730Z
UID:1285-1771858800-1771873200@amclinicas.org
SUMMARY:Bioestimuladores
DESCRIPTION:
URL:https://amclinicas.org/index.php/event/bioestimuladores-2/
LOCATION:Iztapalapa\, Ermita Iztapalapa 2545\, Col. La Era\, CDMX\, CDMX\, 09710\, Mexico
CATEGORIES:Diplomados
END:VEVENT
BEGIN:VEVENT
DTSTART;TZID=UTC:20260224T100000
DTEND;TZID=UTC:20260224T140000
DTSTAMP:20260421T001817
CREATED:20260204T064724Z
LAST-MODIFIED:20260204T064724Z
UID:1290-1771927200-1771941600@amclinicas.org
SUMMARY:Sueroterapia
DESCRIPTION:
URL:https://amclinicas.org/index.php/event/sueroterapia-4/
LOCATION:Iztapalapa\, Ermita Iztapalapa 2545\, Col. La Era\, CDMX\, CDMX\, 09710\, Mexico
CATEGORIES:Diplomados
END:VEVENT
BEGIN:VEVENT
DTSTART;TZID=UTC:20260225T150000
DTEND;TZID=UTC:20260225T190000
DTSTAMP:20260421T001817
CREATED:20260204T064601Z
LAST-MODIFIED:20260204T064601Z
UID:1287-1772031600-1772046000@amclinicas.org
SUMMARY:Bioestimuladores
DESCRIPTION:
URL:https://amclinicas.org/index.php/event/bioestimuladores-3/
LOCATION:Taxqueña\, San Andrés 25\, Tlalpan Centro\, México\, CDMX\, 04040\, Mexico
CATEGORIES:Diplomados
END:VEVENT
BEGIN:VEVENT
DTSTART;TZID=UTC:20260227T100000
DTEND;TZID=UTC:20260227T140000
DTSTAMP:20260421T001817
CREATED:20260204T064833Z
LAST-MODIFIED:20260204T064833Z
UID:1293-1772186400-1772200800@amclinicas.org
SUMMARY:Cosmiatría Facial y Corporal
DESCRIPTION:
URL:https://amclinicas.org/index.php/event/cosmiatria-facial-y-corporal-2/
LOCATION:Taxqueña\, San Andrés 25\, Tlalpan Centro\, México\, CDMX\, 04040\, Mexico
CATEGORIES:Diplomados
END:VEVENT
END:VCALENDAR