BEGIN:VCALENDAR
VERSION:2.0
PRODID:-//AM Clínicas - ECPv6.15.13.1//NONSGML v1.0//EN
CALSCALE:GREGORIAN
METHOD:PUBLISH
X-WR-CALNAME:AM Clínicas
X-ORIGINAL-URL:https://amclinicas.org
X-WR-CALDESC:Eventos para AM Clínicas
REFRESH-INTERVAL;VALUE=DURATION:PT1H
X-Robots-Tag:noindex
X-PUBLISHED-TTL:PT1H
BEGIN:VTIMEZONE
TZID:UTC
BEGIN:STANDARD
TZOFFSETFROM:+0000
TZOFFSETTO:+0000
TZNAME:UTC
DTSTART:20250101T000000
END:STANDARD
END:VTIMEZONE
BEGIN:VEVENT
DTSTART;TZID=UTC:20260119T150000
DTEND;TZID=UTC:20260119T190000
DTSTAMP:20260420T184518
CREATED:20260108T012032Z
LAST-MODIFIED:20260109T221510Z
UID:1223-1768834800-1768849200@amclinicas.org
SUMMARY:Podología Clínica
DESCRIPTION:Descripción general \nEl Diplomado en Podología  Clínica forma profesionales capacitados para la evaluación\, diagnóstico y atención integral del pie\, mediante técnicas quiropodológicas seguras y actualizadas. El programa está diseñado con un enfoque práctico y progresivo\, permitiendo al alumno adquirir habilidades clínicas\, éticas y profesionales para brindar atención de calidad en consultorios\, clínicas o de manera independiente \n📚 Temario  \n🔹 Fundamentos \nIntroducción y evolución de la quiropodia\, anatomía y biomecánica del pie\, patologías frecuentes y métodos de diagnóstico y evaluación. \n🔹 Técnicas de atención quiropodológica \nManejo del instrumental podológico\, medidas de higiene y bioseguridad\, corte y fresado de uñas\, eliminación de hiperqueratosis y uso de sustancias auxiliares. \n🔹 Práctica clínica supervisada \nSimulación de casos clínicos\, atención a pacientes con afecciones específicas\, adaptación de técnicas y evaluación del desempeño práctico. \n🔹 Ética y profesionalismo \nPrincipios éticos en la práctica podológica\, normativas y regulaciones\, comunicación efectiva y trato humanizado al paciente. \n🔹 Evaluación y mejora continua \nAutoevaluación de habilidades\, práctica supervisada con retroalimentación\, listas de cotejo y ajuste de técnicas conforme a estándares de competencia. \n🔹 Integración y cierre \nAnálisis de casos clínicos complejos\, simulación de atención en condiciones reales\, reflexión del aprendizaje y evaluación final. \n⏱️ Duración \n\n9  meses\n1 día por semana\n80% teórico 20% práctico\n\n📄 Documentación que se otorga \n🎓 Documentación oficial con la SEP (*opcional*). \n✅Título honorífico  \n✅Constancia  \n✅Cédula de Identidad  \n✅Tira de materias  \n✅Ficha técnica  \n✅Diploma 
URL:https://amclinicas.org/index.php/event/podologia-clinica/
LOCATION:Taxqueña\, San Andrés 25\, Tlalpan Centro\, México\, CDMX\, 04040\, Mexico
CATEGORIES:Diplomados
ATTACH;FMTTYPE=image/jpeg:https://amclinicas.org/wp-content/uploads/2026/01/Sitio-1.jpg
END:VEVENT
END:VCALENDAR