BEGIN:VCALENDAR
VERSION:2.0
PRODID:-//AM Clínicas - ECPv6.15.13.1//NONSGML v1.0//EN
CALSCALE:GREGORIAN
METHOD:PUBLISH
X-WR-CALNAME:AM Clínicas
X-ORIGINAL-URL:https://amclinicas.org
X-WR-CALDESC:Eventos para AM Clínicas
REFRESH-INTERVAL;VALUE=DURATION:PT1H
X-Robots-Tag:noindex
X-PUBLISHED-TTL:PT1H
BEGIN:VTIMEZONE
TZID:UTC
BEGIN:STANDARD
TZOFFSETFROM:+0000
TZOFFSETTO:+0000
TZNAME:UTC
DTSTART:20250101T000000
END:STANDARD
END:VTIMEZONE
BEGIN:VEVENT
DTSTART;TZID=UTC:20260102T100000
DTEND;TZID=UTC:20260102T140000
DTSTAMP:20260421T000056
CREATED:20260108T002729Z
LAST-MODIFIED:20260108T003218Z
UID:1202-1767348000-1767362400@amclinicas.org
SUMMARY:Auxiliar de Medicina Estética
DESCRIPTION:
URL:https://amclinicas.org/index.php/event/auxiliar-de-medicina-estetica/
LOCATION:Eduardo Molina\, Estaño 462\, 5to Tramo 20 de Noviembre\, México\, CDMX\, 15309\, Mexico
CATEGORIES:Diplomados
END:VEVENT
END:VCALENDAR